BEGIN:VCALENDAR
VERSION:2.0
PRODID:-//FMAITV - ECPv6.15.13.1//NONSGML v1.0//EN
CALSCALE:GREGORIAN
METHOD:PUBLISH
X-ORIGINAL-URL:https://fmaitv.eu
X-WR-CALDESC:Eventi per FMAITV
REFRESH-INTERVAL;VALUE=DURATION:PT1H
X-Robots-Tag:noindex
X-PUBLISHED-TTL:PT1H
BEGIN:VTIMEZONE
TZID:UTC
BEGIN:STANDARD
TZOFFSETFROM:+0000
TZOFFSETTO:+0000
TZNAME:UTC
DTSTART:20210101T000000
END:STANDARD
END:VTIMEZONE
BEGIN:VEVENT
DTSTART;VALUE=DATE:20221012
DTEND;VALUE=DATE:20221013
DTSTAMP:20260424T192425
CREATED:20221018T115440Z
LAST-MODIFIED:20221018T120526Z
UID:5975-1665532800-1665619199@fmaitv.eu
SUMMARY:Seminario Europa CIOFS FP Nazionale
DESCRIPTION:Per maggiori info
URL:https://fmaitv.eu/evento/seminario-europa-ciofs-fp-nazionale/
LOCATION:Torino
CATEGORIES:Formazione
ATTACH;FMTTYPE=image/png:https://fmaitv.eu/wp-content/uploads/2019/02/Icone_v2_Formazione.png
END:VEVENT
END:VCALENDAR