BEGIN:VCALENDAR
VERSION:2.0
PRODID:-//FMAITV - ECPv6.15.13.1//NONSGML v1.0//EN
CALSCALE:GREGORIAN
METHOD:PUBLISH
X-WR-CALNAME:FMAITV
X-ORIGINAL-URL:https://fmaitv.eu
X-WR-CALDESC:Eventi per FMAITV
REFRESH-INTERVAL;VALUE=DURATION:PT1H
X-Robots-Tag:noindex
X-PUBLISHED-TTL:PT1H
BEGIN:VTIMEZONE
TZID:UTC
BEGIN:STANDARD
TZOFFSETFROM:+0000
TZOFFSETTO:+0000
TZNAME:UTC
DTSTART:20210101T000000
END:STANDARD
END:VTIMEZONE
BEGIN:VEVENT
DTSTART;VALUE=DATE:20221008
DTEND;VALUE=DATE:20221009
DTSTAMP:20260424T205224
CREATED:20221018T113749Z
LAST-MODIFIED:20221018T114047Z
UID:5970-1665187200-1665273599@fmaitv.eu
SUMMARY:Seminario Pastorale Giovanile Nazionale
DESCRIPTION:
URL:https://fmaitv.eu/evento/seminario-pastorale-giovanile-nazionale/
LOCATION:Torreglia – Villa Immacolata
CATEGORIES:Pastorale Giovanile
ATTACH;FMTTYPE=image/png:https://fmaitv.eu/wp-content/uploads/2019/02/Icone_v2_Giovani.png
END:VEVENT
END:VCALENDAR